BEGIN:VCALENDAR
VERSION:2.0
PRODID:-//Timepad Ltd.//NONSGML Timepad//RU
METHOD:REQUEST
BEGIN:VEVENT
UID:20260423T122905-790160622-example.com
DTSTAMP:20260423T122905
DTSTART:20210702T060000Z
ORGANIZER;CN=STEP LOGIC:mailto:info@step.ru
SUMMARY:«Цифровая Калмыкия: как информационные технологии помогают бизнесу и государству»
DESCRIPTION: STEP LOGIC и Huawei выступят технологическими  партнерами конференции «Цифровая Калмыкия: как информационные технологии помогают бизнесу и государству», участниками которой станут Министерство цифрового развития Республики Калмыкия, эксперты и представители местного бизнеса.<...
END:VEVENT
END:VCALENDAR
