BEGIN:VCALENDAR
VERSION:2.0
PRODID:-//Timepad Ltd.//NONSGML Timepad//RU
METHOD:REQUEST
BEGIN:VEVENT
UID:20260421T231804-353726635-example.com
DTSTAMP:20260421T231804
DTSTART:20250320T070000Z
DTEND:20250321T160000Z
ORGANIZER;CN=STEP LOGIC:mailto:info@step.ru
SUMMARY:STEP LOGIC расскажет о проектах по импортозамещению на демо-дне ИЦК «Химия и фармацевтика»
DESCRIPTION: В рамках мероприятия планируется презентация  проектов по цифровизации и импортозамещению промышленных предприятий, выступления ведущих ИТ-компаний, разрабатывающих цифровые решения для промышленности, а также проведение тематических сессий по ключевым вопросам цифрового и технологического раз...
END:VEVENT
END:VCALENDAR
