BEGIN:VCALENDAR
VERSION:2.0
PRODID:-//Timepad Ltd.//NONSGML Timepad//RU
METHOD:REQUEST
BEGIN:VEVENT
UID:20260426T001838-1842732689-example.com
DTSTAMP:20260426T001838
DTSTART:20160913T210000Z
ORGANIZER;CN=STEP LOGIC:mailto:info@step.ru
SUMMARY:Check Point Security Day 2016
DESCRIPTION: 14 сентября 2016 года СТЭП ЛОДЖИК принял участие  в конференции по информационной безопасности Check Point Security Day.   Ежегодно серия конференций Check Point Security  Day проводится в разных странах мира и собирает представительную аудиторию клиентов, партнеров, аналитиков, экспертов р...
END:VEVENT
END:VCALENDAR
