BEGIN:VCALENDAR
VERSION:2.0
PRODID:-//Timepad Ltd.//NONSGML Timepad//RU
METHOD:REQUEST
BEGIN:VEVENT
UID:20260423T132858-317879435-example.com
DTSTAMP:20260423T132858
DTSTART:20180402T210000Z
DTEND:20180403T210000Z
ORGANIZER;CN=STEP LOGIC:mailto:info@step.ru
SUMMARY:Cisco Connect 2018
DESCRIPTION: СТЭП ЛОДЖИК представит совместные решения  с Хэд Пойнт и РСТ-Инвент на базе IoT платформы Kinetic на Cisco Connect 2018   Москва. 3-4 апреля 2018, ЦМТ   <span st...
END:VEVENT
END:VCALENDAR
