BEGIN:VCALENDAR
VERSION:2.0
PRODID:-//Timepad Ltd.//NONSGML Timepad//RU
METHOD:REQUEST
BEGIN:VEVENT
UID:20260425T221724-584000334-example.com
DTSTAMP:20260425T221724
DTSTART:20180328T210000Z
DTEND:20180328T210000Z
ORGANIZER;CN=STEP LOGIC:mailto:info@step.ru
SUMMARY:Российский нефтегазовый ИТ-саммит «Интеллектуальное месторождение»
DESCRIPTION: Специалисты СТЭП ЛОДЖИК приняли участие  в российском нефтегазовом ИТ-саммите «Интеллектуальное месторождение», который состоялся 29 марта в отеле InterContinental Moscow Tverskaya.   Саммит направлен на ИТ-профессионалов  в топливно-энергетическом комплексе и охватывает сразу...
END:VEVENT
END:VCALENDAR
