BEGIN:VCALENDAR
VERSION:2.0
PRODID:-//Timepad Ltd.//NONSGML Timepad//RU
METHOD:REQUEST
BEGIN:VEVENT
UID:20260423T115358-1513293466-example.com
DTSTAMP:20260423T115358
DTSTART:20180926T210000Z
DTEND:20180926T210000Z
ORGANIZER;CN=STEP LOGIC:mailto:info@step.ru
SUMMARY:Unify Vision Day 2018
DESCRIPTION: СТЭП ЛОДЖИК выступит партнером конференции  Unify Vision Day 2018, которая пройдет 27 сентября в Korston Club Hotel Moscow.   Уже много лет СТЭП ЛОДЖИК активно сотрудничает  с Unify по направлению унифицированных коммуникаций. В 2017 году системный интегратор получи...
END:VEVENT
END:VCALENDAR
