BEGIN:VCALENDAR
VERSION:2.0
PRODID:-//Timepad Ltd.//NONSGML Timepad//RU
METHOD:REQUEST
BEGIN:VEVENT
UID:20260423T115511-518575118-example.com
DTSTAMP:20260423T115511
DTSTART:20181015T210000Z
DTEND:20181015T210000Z
ORGANIZER;CN=STEP LOGIC:mailto:info@step.ru
SUMMARY:Juniper Day 2018
DESCRIPTION: СТЭП ЛОДЖИК выступает партнером Juniper Day  – главного ежегодного мероприятия вендора, которое пройдет 16 октября в гостинице Radisson Royal, Москва. На своем стенде СТЭП ЛОДЖИК демонстрирует успешные кейсы и экспертизу в области...
END:VEVENT
END:VCALENDAR
