BEGIN:VCALENDAR
VERSION:2.0
PRODID:-//Timepad Ltd.//NONSGML Timepad//RU
METHOD:REQUEST
BEGIN:VEVENT
UID:20260422T115833-2084841358-example.com
DTSTAMP:20260422T115833
DTSTART:20181028T210000Z
DTEND:20181031T210000Z
ORGANIZER;CN=STEP LOGIC:mailto:info@step.ru
SUMMARY:IX Неделя контактных центров
DESCRIPTION: Коммерсанты СТЭП ЛОДЖИК вместе со своими  заказчиками принимают участие в IX Неделе контактных центров (Contact Centers Week, CCW), которая проходит 29 октяб...
END:VEVENT
END:VCALENDAR
