BEGIN:VCALENDAR
VERSION:2.0
PRODID:-//Timepad Ltd.//NONSGML Timepad//RU
METHOD:REQUEST
BEGIN:VEVENT
UID:20260423T115853-1884329001-example.com
DTSTAMP:20260423T115853
DTSTART:20190205T092300Z
DTEND:20190208T092300Z
ORGANIZER;CN=STEP LOGIC:mailto:info@step.ru
SUMMARY:Выставка по интеграции AV-систем Integrated Systems Europe 
DESCRIPTION: Сотрудники СТЭП ЛОДЖИК посетят международную  выставку по интеграции AV-систем Integrated Systems Europe (ISE), которая пройдет с 5 по 8 февраля в Амстердаме.    СТЭП ЛОДЖИК обладает экс...
END:VEVENT
END:VCALENDAR
