BEGIN:VCALENDAR
VERSION:2.0
PRODID:-//Timepad Ltd.//NONSGML Timepad//RU
METHOD:REQUEST
BEGIN:VEVENT
UID:20260423T120409-1438801756-example.com
DTSTAMP:20260423T120409
DTSTART:20190228T070000Z
DTEND:20190228T161700Z
ORGANIZER;CN=STEP LOGIC:mailto:info@step.ru
SUMMARY:Конференция «Smart-технологии для города»
DESCRIPTION: Специалисты СТЭП ЛОДЖИК примут участие  в работе конференции «Smart-технологии для города», которая пройдет 28 февраля в конференц-центре Newsroom в Москве.       Ор...
END:VEVENT
END:VCALENDAR
